BEGIN:VCALENDAR
VERSION:2.0
PRODID:-//213.186.33.4//NONSGML kigkonsult.se iCalcreator 2.20//
CALSCALE:GREGORIAN
METHOD:PUBLISH
X-WR-TIMEZONE:Europe/Paris
BEGIN:VEVENT
UID:event202@GUMS Paris
DTSTAMP:20260421T092701Z
CATEGORIES:Vie du Club
DESCRIPTION:Pot d'accueil de la saison d'escalade\nCatégorie: Vie du Club\n
 Lien: https://www.gumsparis.asso.fr/index.php?option=com_jem&view=event&id
 =202:pot-daccueil-de-la-saison-descalade\n
DTSTART;TZID=Europe/Paris:20130905T191500
DTEND;TZID=Europe/Paris:20130905T213000
LOCATION:Forêt de Fontainebleau\,77300 Fontainebleau
SUMMARY:Pot d'accueil de la saison d'escalade
URL:https://www.gumsparis.asso.fr/index.php?option=com_jem&view=event&id=20
 2:pot-daccueil-de-la-saison-descalade
END:VEVENT
END:VCALENDAR
