BEGIN:VCALENDAR
VERSION:2.0
PRODID:-//213.186.33.4//NONSGML kigkonsult.se iCalcreator 2.20//
CALSCALE:GREGORIAN
METHOD:PUBLISH
X-WR-TIMEZONE:Europe/Paris
BEGIN:VEVENT
UID:event225@GUMS Paris
DTSTAMP:20260421T094154Z
CATEGORIES:Vie du Club
DESCRIPTION:Soirée 'Météo' à la perma\nCatégorie: Vie du Club\nLien: https:
 //www.gumsparis.asso.fr/index.php?option=com_jem&view=event&id=225:soiree-
 meteo-a-la-perma\n
DTSTART;TZID=Europe/Paris:20130110T193000
DTEND;TZID=Europe/Paris:20130110T193000
LOCATION:Forêt de Fontainebleau\,77300 Fontainebleau
SUMMARY:Soirée 'Météo' à la perma
URL:https://www.gumsparis.asso.fr/index.php?option=com_jem&view=event&id=22
 5:soiree-meteo-a-la-perma
END:VEVENT
END:VCALENDAR
