BEGIN:VCALENDAR
VERSION:2.0
PRODID:-//213.186.33.4//NONSGML kigkonsult.se iCalcreator 2.20//
CALSCALE:GREGORIAN
METHOD:PUBLISH
X-WR-TIMEZONE:Europe/Paris
BEGIN:VEVENT
UID:event226@GUMS Paris
DTSTAMP:20260421T092429Z
CATEGORIES:Vie du Club
DESCRIPTION:Assemblée Générale du GUMS-Paris\nCatégorie: Vie du Club\nLien:
  https://www.gumsparis.asso.fr/index.php?option=com_jem&view=event&id=226:
 assemblee-generale-du-gums-paris\n
DTSTART;TZID=Europe/Paris:20131018T190000
DTEND;TZID=Europe/Paris:20131018T223000
LOCATION:Maison des Associations du XIVe\,76 rue Daguerre\,75014 Paris
SUMMARY:Assemblée Générale du GUMS-Paris
URL:https://www.gumsparis.asso.fr/index.php?option=com_jem&view=event&id=22
 6:assemblee-generale-du-gums-paris
END:VEVENT
END:VCALENDAR
