BEGIN:VCALENDAR
VERSION:2.0
PRODID:-//213.186.33.4//NONSGML kigkonsult.se iCalcreator 2.20//
CALSCALE:GREGORIAN
METHOD:PUBLISH
X-WR-TIMEZONE:Europe/Paris
BEGIN:VEVENT
UID:event227@GUMS Paris
DTSTAMP:20260421T091858Z
CATEGORIES:Sorties Falaises
DESCRIPTION:WE Calanques\nCatégorie: Sorties Falaises\nLien: https://www.gu
 msparis.asso.fr/index.php?option=com_jem&view=event&id=227:we-calanques\n
DTSTART;VALUE=DATE:20130323
DTEND;VALUE=DATE:20130325
SUMMARY:WE Calanques
URL:https://www.gumsparis.asso.fr/index.php?option=com_jem&view=event&id=22
 7:we-calanques
END:VEVENT
END:VCALENDAR
