BEGIN:VCALENDAR
VERSION:2.0
PRODID:-//213.186.33.4//NONSGML kigkonsult.se iCalcreator 2.20//
CALSCALE:GREGORIAN
METHOD:PUBLISH
X-WR-TIMEZONE:Europe/Paris
BEGIN:VEVENT
UID:event232@GUMS Paris
DTSTAMP:20260421T093210Z
CATEGORIES:Sorties Falaises
DESCRIPTION:Rassemblement escalade Isle of Skye\nCatégorie: Sorties Falaise
 s\nLien: https://www.gumsparis.asso.fr/index.php?option=com_jem&view=event
 &id=232:rassemblement-escalade-isle-of-skye\n
DTSTART;VALUE=DATE:20130501
DTEND;VALUE=DATE:20130513
SUMMARY:Rassemblement escalade Isle of Skye
URL:https://www.gumsparis.asso.fr/index.php?option=com_jem&view=event&id=23
 2:rassemblement-escalade-isle-of-skye
END:VEVENT
END:VCALENDAR
