BEGIN:VCALENDAR
VERSION:2.0
PRODID:-//213.186.33.4//NONSGML kigkonsult.se iCalcreator 2.20//
CALSCALE:GREGORIAN
METHOD:PUBLISH
X-WR-TIMEZONE:Europe/Paris
BEGIN:VEVENT
UID:event233@GUMS Paris
DTSTAMP:20260421T094850Z
CATEGORIES:Ski de Rando
DESCRIPTION:Séjour 'Peau de phoque FBL' en Val de Thures (Italie)\nCatégori
 e: Ski de Rando\nLien: https://www.gumsparis.asso.fr/index.php?option=com_
 jem&view=event&id=233:sejour-qpeau-de-phoque-fblq-en-val-de-thures-italie
 \n
DTSTART;VALUE=DATE:20130302
DTEND;VALUE=DATE:20130310
SUMMARY:Séjour 'Peau de phoque FBL' en Val de Thures (Italie)
URL:https://www.gumsparis.asso.fr/index.php?option=com_jem&view=event&id=23
 3:sejour-qpeau-de-phoque-fblq-en-val-de-thures-italie
END:VEVENT
END:VCALENDAR
