BEGIN:VCALENDAR
VERSION:2.0
PRODID:-//213.186.33.4//NONSGML kigkonsult.se iCalcreator 2.20//
CALSCALE:GREGORIAN
METHOD:PUBLISH
X-WR-TIMEZONE:Europe/Paris
BEGIN:VEVENT
UID:event234@GUMS Paris
DTSTAMP:20260421T093107Z
CATEGORIES:Ski de Rando
DESCRIPTION:Stage d'initiation au ski de rando à Ceillac\nCatégorie: Ski de
  Rando\nLien: https://www.gumsparis.asso.fr/index.php?option=com_jem&view=
 event&id=234:stage-dinitiation-au-ski-de-rando-a-ceillac\n
DTSTART;VALUE=DATE:20130309
DTEND;VALUE=DATE:20130317
SUMMARY:Stage d'initiation au ski de rando à Ceillac
URL:https://www.gumsparis.asso.fr/index.php?option=com_jem&view=event&id=23
 4:stage-dinitiation-au-ski-de-rando-a-ceillac
END:VEVENT
END:VCALENDAR
