BEGIN:VCALENDAR
VERSION:2.0
PRODID:-//213.186.33.4//NONSGML kigkonsult.se iCalcreator 2.20//
CALSCALE:GREGORIAN
METHOD:PUBLISH
X-WR-TIMEZONE:Europe/Paris
BEGIN:VEVENT
UID:event235@GUMS Paris
DTSTAMP:20260421T094816Z
CATEGORIES:Ski de Rando
DESCRIPTION:Stage ski de rando en Ubaye pour skieurs confirmés\nCatégorie: 
 Ski de Rando\nLien: https://www.gumsparis.asso.fr/index.php?option=com_jem
 &view=event&id=235:stage-ski-de-rando-en-ubaye-pour-skieurs-confirmes\n
DTSTART;VALUE=DATE:20130309
DTEND;VALUE=DATE:20130317
SUMMARY:Stage ski de rando en Ubaye pour skieurs confirmés
URL:https://www.gumsparis.asso.fr/index.php?option=com_jem&view=event&id=23
 5:stage-ski-de-rando-en-ubaye-pour-skieurs-confirmes
END:VEVENT
END:VCALENDAR
