BEGIN:VCALENDAR
VERSION:2.0
PRODID:-//213.186.33.4//NONSGML kigkonsult.se iCalcreator 2.20//
CALSCALE:GREGORIAN
METHOD:PUBLISH
X-WR-TIMEZONE:Europe/Paris
BEGIN:VEVENT
UID:event237@GUMS Paris
DTSTAMP:20260421T092138Z
CATEGORIES:Sorties Falaises
DESCRIPTION:Weekend à Presles (Vercors)\nCatégorie: Sorties Falaises\nLien:
  https://www.gumsparis.asso.fr/index.php?option=com_jem&view=event&id=237:
 car-couchettes-presle\n
DTSTART;VALUE=DATE:20130518
DTEND;VALUE=DATE:20130521
SUMMARY:Weekend à Presles (Vercors)
URL:https://www.gumsparis.asso.fr/index.php?option=com_jem&view=event&id=23
 7:car-couchettes-presle
END:VEVENT
END:VCALENDAR
