BEGIN:VCALENDAR
VERSION:2.0
PRODID:-//213.186.33.4//NONSGML kigkonsult.se iCalcreator 2.20//
CALSCALE:GREGORIAN
METHOD:PUBLISH
X-WR-TIMEZONE:Europe/Paris
BEGIN:VEVENT
UID:event238@GUMS Paris
DTSTAMP:20260421T092147Z
CATEGORIES:Sorties Falaises
DESCRIPTION:Car couchettes Vallouise-Pelvoux-Ailefroide\nCatégorie: Sorties
  Falaises\nLien: https://www.gumsparis.asso.fr/index.php?option=com_jem&vi
 ew=event&id=238:car-couchettes-ailefroide\n
DTSTART;VALUE=DATE:20130615
DTEND;VALUE=DATE:20130617
SUMMARY:Car couchettes Vallouise-Pelvoux-Ailefroide
URL:https://www.gumsparis.asso.fr/index.php?option=com_jem&view=event&id=23
 8:car-couchettes-ailefroide
END:VEVENT
END:VCALENDAR
