BEGIN:VCALENDAR
VERSION:2.0
PRODID:-//213.186.33.4//NONSGML kigkonsult.se iCalcreator 2.20//
CALSCALE:GREGORIAN
METHOD:PUBLISH
X-WR-TIMEZONE:Europe/Paris
BEGIN:VEVENT
UID:event240@GUMS Paris
DTSTAMP:20260421T092543Z
CATEGORIES:Sorties Falaises
DESCRIPTION:WE falaise Saffres\nCatégorie: Sorties Falaises\nLien: https://
 www.gumsparis.asso.fr/index.php?option=com_jem&view=event&id=240:we-falais
 e-saffres\n
DTSTART;VALUE=DATE:20130601
DTEND;VALUE=DATE:20130603
SUMMARY:WE falaise Saffres
URL:https://www.gumsparis.asso.fr/index.php?option=com_jem&view=event&id=24
 0:we-falaise-saffres
END:VEVENT
END:VCALENDAR
