BEGIN:VCALENDAR
VERSION:2.0
PRODID:-//213.186.33.4//NONSGML kigkonsult.se iCalcreator 2.20//
CALSCALE:GREGORIAN
METHOD:PUBLISH
X-WR-TIMEZONE:Europe/Paris
BEGIN:VEVENT
UID:event241@GUMS Paris
DTSTAMP:20260421T092021Z
CATEGORIES:Sorties Falaises
DESCRIPTION:Rassemblement escalade Calanques\nCatégorie: Sorties Falaises\n
 Lien: https://www.gumsparis.asso.fr/index.php?option=com_jem&view=event&id
 =241:rassemblement-escalade\n
DTSTART;VALUE=DATE:20130504
DTEND;VALUE=DATE:20130513
SUMMARY:Rassemblement escalade Calanques
URL:https://www.gumsparis.asso.fr/index.php?option=com_jem&view=event&id=24
 1:rassemblement-escalade
END:VEVENT
END:VCALENDAR
