BEGIN:VCALENDAR
VERSION:2.0
PRODID:-//213.186.33.4//NONSGML kigkonsult.se iCalcreator 2.20//
CALSCALE:GREGORIAN
METHOD:PUBLISH
X-WR-TIMEZONE:Europe/Paris
BEGIN:VEVENT
UID:event251@GUMS Paris
DTSTAMP:20260421T093050Z
CATEGORIES:Vie du Club
DESCRIPTION:Soirée montages vidéo\nCatégorie: Vie du Club\nLien: https://ww
 w.gumsparis.asso.fr/index.php?option=com_jem&view=event&id=251:soiree-mont
 ages-video\n
DTSTART;TZID=Europe/Paris:20130404T200000
DTEND;TZID=Europe/Paris:20130404T213000
LOCATION:Forêt de Fontainebleau\,77300 Fontainebleau
SUMMARY:Soirée montages vidéo
URL:https://www.gumsparis.asso.fr/index.php?option=com_jem&view=event&id=25
 1:soiree-montages-video
END:VEVENT
END:VCALENDAR
