BEGIN:VCALENDAR
VERSION:2.0
PRODID:-//213.186.33.4//NONSGML kigkonsult.se iCalcreator 2.20//
CALSCALE:GREGORIAN
METHOD:PUBLISH
X-WR-TIMEZONE:Europe/Paris
BEGIN:VEVENT
UID:event263@GUMS Paris
DTSTAMP:20260421T092021Z
CATEGORIES:Vie du Club
DESCRIPTION:Inter Gums dans le Verdon\nCatégorie: Vie du Club\nLien: https:
 //www.gumsparis.asso.fr/index.php?option=com_jem&view=event&id=263:inter-g
 ums-dans-le-verdon\n
DTSTART;VALUE=DATE:20130601
DTEND;VALUE=DATE:20130603
SUMMARY:Inter Gums dans le Verdon
URL:https://www.gumsparis.asso.fr/index.php?option=com_jem&view=event&id=26
 3:inter-gums-dans-le-verdon
END:VEVENT
END:VCALENDAR
