BEGIN:VCALENDAR
VERSION:2.0
PRODID:-//213.186.33.4//NONSGML kigkonsult.se iCalcreator 2.20//
CALSCALE:GREGORIAN
METHOD:PUBLISH
X-WR-TIMEZONE:Europe/Paris
BEGIN:VEVENT
UID:event267@GUMS Paris
DTSTAMP:20260421T092544Z
CATEGORIES:Sorties Falaises
DESCRIPTION:Car couchettes Abondance-Cornettes de Bise\nCatégorie: Sorties 
 Falaises\nLien: https://www.gumsparis.asso.fr/index.php?option=com_jem&vie
 w=event&id=267:car-couchettes-cornette-de-bises-ou-aravis\n
DTSTART;VALUE=DATE:20131012
DTEND;VALUE=DATE:20131014
SUMMARY:Car couchettes Abondance-Cornettes de Bise
URL:https://www.gumsparis.asso.fr/index.php?option=com_jem&view=event&id=26
 7:car-couchettes-cornette-de-bises-ou-aravis
END:VEVENT
END:VCALENDAR
