BEGIN:VCALENDAR
VERSION:2.0
PRODID:-//213.186.33.4//NONSGML kigkonsult.se iCalcreator 2.20//
CALSCALE:GREGORIAN
METHOD:PUBLISH
X-WR-TIMEZONE:Europe/Paris
BEGIN:VEVENT
UID:event268@GUMS Paris
DTSTAMP:20260421T092623Z
CATEGORIES:Sorties Falaises
DESCRIPTION:Car couchettes Buis Les Baronies\nCatégorie: Sorties Falaises\n
 Lien: https://www.gumsparis.asso.fr/index.php?option=com_jem&view=event&id
 =268:car-couchettes-buis-les-baronies\n
DTSTART;VALUE=DATE:20131109
DTEND;VALUE=DATE:20131112
SUMMARY:Car couchettes Buis Les Baronies
URL:https://www.gumsparis.asso.fr/index.php?option=com_jem&view=event&id=26
 8:car-couchettes-buis-les-baronies
END:VEVENT
END:VCALENDAR
