BEGIN:VCALENDAR
VERSION:2.0
PRODID:-//213.186.33.4//NONSGML kigkonsult.se iCalcreator 2.20//
CALSCALE:GREGORIAN
METHOD:PUBLISH
X-WR-TIMEZONE:Europe/Paris
BEGIN:VEVENT
UID:event269@GUMS Paris
DTSTAMP:20260421T093344Z
CATEGORIES:Sorties Falaises
DESCRIPTION:Rassemblement aux Dentelles de Montmirail\nCatégorie: Sorties F
 alaises\nLien: https://www.gumsparis.asso.fr/index.php?option=com_jem&view
 =event&id=269:rassemblement-aux-dentelles-de-montmirail\n
DTSTART;VALUE=DATE:20131228
DTEND;VALUE=DATE:20140105
SUMMARY:Rassemblement aux Dentelles de Montmirail
URL:https://www.gumsparis.asso.fr/index.php?option=com_jem&view=event&id=26
 9:rassemblement-aux-dentelles-de-montmirail
END:VEVENT
END:VCALENDAR
