BEGIN:VCALENDAR
VERSION:2.0
PRODID:-//213.186.33.4//NONSGML kigkonsult.se iCalcreator 2.20//
CALSCALE:GREGORIAN
METHOD:PUBLISH
X-WR-TIMEZONE:Europe/Paris
BEGIN:VEVENT
UID:event278@GUMS Paris
DTSTAMP:20260421T092138Z
CATEGORIES:Vie du Club
DESCRIPTION:Stage d'initiation à l'escalade\nCatégorie: Vie du Club\nLien: 
 https://www.gumsparis.asso.fr/index.php?option=com_jem&view=event&id=278:s
 tage-dinitiation-a-lescalade\n
DTSTART;VALUE=DATE:20130908
DTEND;VALUE=DATE:20130930
SUMMARY:Stage d'initiation à l'escalade
URL:https://www.gumsparis.asso.fr/index.php?option=com_jem&view=event&id=27
 8:stage-dinitiation-a-lescalade
END:VEVENT
END:VCALENDAR
