BEGIN:VCALENDAR
VERSION:2.0
PRODID:-//213.186.33.4//NONSGML kigkonsult.se iCalcreator 2.20//
CALSCALE:GREGORIAN
METHOD:PUBLISH
X-WR-TIMEZONE:Europe/Paris
BEGIN:VEVENT
UID:event288@GUMS Paris
DTSTAMP:20260421T092701Z
CATEGORIES:Sorties Falaises
DESCRIPTION:Rassemblement aux Gorges de la Jonte\nCatégorie: Sorties Falais
 es\nLien: https://www.gumsparis.asso.fr/index.php?option=com_jem&view=even
 t&id=288:rassemblement-aux-gorges-de-la-jonte\n
DTSTART;VALUE=DATE:20131026
DTEND;VALUE=DATE:20131104
SUMMARY:Rassemblement aux Gorges de la Jonte
URL:https://www.gumsparis.asso.fr/index.php?option=com_jem&view=event&id=28
 8:rassemblement-aux-gorges-de-la-jonte
END:VEVENT
END:VCALENDAR
