BEGIN:VCALENDAR
VERSION:2.0
PRODID:-//213.186.33.4//NONSGML kigkonsult.se iCalcreator 2.20//
CALSCALE:GREGORIAN
METHOD:PUBLISH
X-WR-TIMEZONE:Europe/Paris
BEGIN:VEVENT
UID:event303@GUMS Paris
DTSTAMP:20260421T092434Z
CATEGORIES:Vie du Club
DESCRIPTION:Soirée de lancement de la saison de ski\nCatégorie: Vie du Club
 \nLien: https://www.gumsparis.asso.fr/index.php?option=com_jem&view=event&
 id=303:soiree-de-lancement-de-la-saison-de-ski\n
DTSTART;TZID=Europe/Paris:20131114T193000
DTEND;TZID=Europe/Paris:20131114T193000
SUMMARY:Soirée de lancement de la saison de ski
URL:https://www.gumsparis.asso.fr/index.php?option=com_jem&view=event&id=30
 3:soiree-de-lancement-de-la-saison-de-ski
END:VEVENT
END:VCALENDAR
