BEGIN:VCALENDAR
VERSION:2.0
PRODID:-//213.186.33.4//NONSGML kigkonsult.se iCalcreator 2.20//
CALSCALE:GREGORIAN
METHOD:PUBLISH
X-WR-TIMEZONE:Europe/Paris
BEGIN:VEVENT
UID:event304@GUMS Paris
DTSTAMP:20260421T093404Z
CATEGORIES:Vie du Club
DESCRIPTION:soirée 'entretien du matériel de ski'\nCatégorie: Vie du Club\n
 Lien: https://www.gumsparis.asso.fr/index.php?option=com_jem&view=event&id
 =304:soiree-qentretien-du-materiel-de-skiq\n
DTSTART;TZID=Europe/Paris:20131128T190000
DTEND;TZID=Europe/Paris:20131128T190000
SUMMARY:soirée 'entretien du matériel de ski'
URL:https://www.gumsparis.asso.fr/index.php?option=com_jem&view=event&id=30
 4:soiree-qentretien-du-materiel-de-skiq
END:VEVENT
END:VCALENDAR
