BEGIN:VCALENDAR
VERSION:2.0
PRODID:-//213.186.33.4//NONSGML kigkonsult.se iCalcreator 2.20//
CALSCALE:GREGORIAN
METHOD:PUBLISH
X-WR-TIMEZONE:Europe/Paris
BEGIN:VEVENT
UID:event308@GUMS Paris
DTSTAMP:20260421T092544Z
CATEGORIES:Vie du Club
DESCRIPTION:Prévision météo et montagne\nCatégorie: Vie du Club\nLien: http
 s://www.gumsparis.asso.fr/index.php?option=com_jem&view=event&id=308:previ
 sion-meteo-et-montagne\n
DTSTART;TZID=Europe/Paris:20140116T193000
DTEND;TZID=Europe/Paris:20140116T193000
SUMMARY:Prévision météo et montagne
URL:https://www.gumsparis.asso.fr/index.php?option=com_jem&view=event&id=30
 8:prevision-meteo-et-montagne
END:VEVENT
END:VCALENDAR
