BEGIN:VCALENDAR
VERSION:2.0
PRODID:-//213.186.33.4//NONSGML kigkonsult.se iCalcreator 2.20//
CALSCALE:GREGORIAN
METHOD:PUBLISH
X-WR-TIMEZONE:Europe/Paris
BEGIN:VEVENT
UID:event312@GUMS Paris
DTSTAMP:20260421T093248Z
CATEGORIES:Vie du Club
DESCRIPTION:Soirée 'Nivologie et avalanches\, les bases'\nCatégorie: Vie du
  Club\nLien: https://www.gumsparis.asso.fr/index.php?option=com_jem&view=e
 vent&id=312:soiree-qnivologie-et-avalanches-les-basesq\n
DTSTART;TZID=Europe/Paris:20131205T193000
DTEND;TZID=Europe/Paris:20131205T193000
SUMMARY:Soirée 'Nivologie et avalanches\, les bases'
URL:https://www.gumsparis.asso.fr/index.php?option=com_jem&view=event&id=31
 2:soiree-qnivologie-et-avalanches-les-basesq
END:VEVENT
END:VCALENDAR
