BEGIN:VCALENDAR
VERSION:2.0
PRODID:-//213.186.33.4//NONSGML kigkonsult.se iCalcreator 2.20//
CALSCALE:GREGORIAN
METHOD:PUBLISH
X-WR-TIMEZONE:Europe/Paris
BEGIN:VEVENT
UID:event324@GUMS Paris
DTSTAMP:20260421T103813Z
CATEGORIES:Ski de Rando
DESCRIPTION:Mise en ligne du programme\nCatégorie: Ski de Rando\nLien: http
 s://www.gumsparis.asso.fr/index.php?option=com_jem&view=event&id=324:mise-
 en-ligne-du-programme\n
DTSTART;VALUE=DATE:20140930
DTEND;VALUE=DATE:20141001
SUMMARY:Mise en ligne du programme
URL:https://www.gumsparis.asso.fr/index.php?option=com_jem&view=event&id=32
 4:mise-en-ligne-du-programme
END:VEVENT
END:VCALENDAR
