BEGIN:VCALENDAR
VERSION:2.0
PRODID:-//213.186.33.4//NONSGML kigkonsult.se iCalcreator 2.20//
CALSCALE:GREGORIAN
METHOD:PUBLISH
X-WR-TIMEZONE:Europe/Paris
BEGIN:VEVENT
UID:event334@GUMS Paris
DTSTAMP:20260421T094611Z
CATEGORIES:Sorties Falaises
DESCRIPTION:Car couchettes Cornettes de Bise\nCatégorie: Sorties Falaises\n
 Lien: https://www.gumsparis.asso.fr/index.php?option=com_jem&view=event&id
 =334:car-couchettes-cornettes-de-bise-ou-nd-du-cros-aude\n
DTSTART;VALUE=DATE:20141011
DTEND;VALUE=DATE:20141013
SUMMARY:Car couchettes Cornettes de Bise
URL:https://www.gumsparis.asso.fr/index.php?option=com_jem&view=event&id=33
 4:car-couchettes-cornettes-de-bise-ou-nd-du-cros-aude
END:VEVENT
END:VCALENDAR
