BEGIN:VCALENDAR
VERSION:2.0
PRODID:-//213.186.33.4//NONSGML kigkonsult.se iCalcreator 2.20//
CALSCALE:GREGORIAN
METHOD:PUBLISH
X-WR-TIMEZONE:Europe/Paris
BEGIN:VEVENT
UID:event338@GUMS Paris
DTSTAMP:20260421T092153Z
CATEGORIES:Vie du Club
DESCRIPTION:Galette du Gums\nCatégorie: Vie du Club\nLien: https://www.gums
 paris.asso.fr/index.php?option=com_jem&view=event&id=338:galette-du-gums\n
DTSTART;TZID=Europe/Paris:20140109T193000
DTEND;TZID=Europe/Paris:20140109T193000
LOCATION:Forêt de Fontainebleau\,77300 Fontainebleau
SUMMARY:Galette du Gums
URL:https://www.gumsparis.asso.fr/index.php?option=com_jem&view=event&id=33
 8:galette-du-gums
END:VEVENT
END:VCALENDAR
