BEGIN:VCALENDAR
VERSION:2.0
PRODID:-//213.186.33.4//NONSGML kigkonsult.se iCalcreator 2.20//
CALSCALE:GREGORIAN
METHOD:PUBLISH
X-WR-TIMEZONE:Europe/Paris
BEGIN:VEVENT
UID:event347@GUMS Paris
DTSTAMP:20260421T094231Z
CATEGORIES:Sorties randonnée
DESCRIPTION:Séjour en Cerdagne\nCatégorie: Sorties randonnée\nLien: https:/
 /www.gumsparis.asso.fr/index.php?option=com_jem&view=event&id=347:sejour-e
 n-cerdagne\n
DTSTART;VALUE=DATE:20140608
DTEND;VALUE=DATE:20140616
SUMMARY:Séjour en Cerdagne
URL:https://www.gumsparis.asso.fr/index.php?option=com_jem&view=event&id=34
 7:sejour-en-cerdagne
END:VEVENT
END:VCALENDAR
