BEGIN:VCALENDAR
VERSION:2.0
PRODID:-//213.186.33.4//NONSGML kigkonsult.se iCalcreator 2.20//
CALSCALE:GREGORIAN
METHOD:PUBLISH
X-WR-TIMEZONE:Europe/Paris
BEGIN:VEVENT
UID:event348@GUMS Paris
DTSTAMP:20260421T104145Z
CATEGORIES:Sorties randonnée
DESCRIPTION:Entre Nemours et Larchant\nCatégorie: Sorties randonnée\nLien: 
 https://www.gumsparis.asso.fr/index.php?option=com_jem&view=event&id=348:e
 ntre-nemours-et-larchant\n
DTSTART;TZID=Europe/Paris:20140629T100000
DTEND;TZID=Europe/Paris:20140629T100000
SUMMARY:Entre Nemours et Larchant
URL:https://www.gumsparis.asso.fr/index.php?option=com_jem&view=event&id=34
 8:entre-nemours-et-larchant
END:VEVENT
END:VCALENDAR
