BEGIN:VCALENDAR
VERSION:2.0
PRODID:-//213.186.33.4//NONSGML kigkonsult.se iCalcreator 2.20//
CALSCALE:GREGORIAN
METHOD:PUBLISH
X-WR-TIMEZONE:Europe/Paris
BEGIN:VEVENT
UID:event353@GUMS Paris
DTSTAMP:20260421T094611Z
CATEGORIES:Sorties randonnée
DESCRIPTION:Journée du patrimoine à Provins\nCatégorie: Sorties randonnée\n
 Lien: https://www.gumsparis.asso.fr/index.php?option=com_jem&view=event&id
 =353:journee-du-patrimoine-a-provins\n
DTSTART;TZID=Europe/Paris:20140921T110000
DTEND;TZID=Europe/Paris:20140921T110000
SUMMARY:Journée du patrimoine à Provins
URL:https://www.gumsparis.asso.fr/index.php?option=com_jem&view=event&id=35
 3:journee-du-patrimoine-a-provins
END:VEVENT
END:VCALENDAR
