BEGIN:VCALENDAR
VERSION:2.0
PRODID:-//213.186.33.4//NONSGML kigkonsult.se iCalcreator 2.20//
CALSCALE:GREGORIAN
METHOD:PUBLISH
X-WR-TIMEZONE:Europe/Paris
BEGIN:VEVENT
UID:event354@GUMS Paris
DTSTAMP:20260421T094338Z
CATEGORIES:Sorties randonnée
DESCRIPTION:Séjour à Maurs  (Cantal)\nCatégorie: Sorties randonnée\nLien: h
 ttps://www.gumsparis.asso.fr/index.php?option=com_jem&view=event&id=354:se
 jour-a-maurs-cantal\n
DTSTART;VALUE=DATE:20141005
DTEND;VALUE=DATE:20141012
SUMMARY:Séjour à Maurs  (Cantal)
URL:https://www.gumsparis.asso.fr/index.php?option=com_jem&view=event&id=35
 4:sejour-a-maurs-cantal
END:VEVENT
END:VCALENDAR
