BEGIN:VCALENDAR
VERSION:2.0
PRODID:-//213.186.33.4//NONSGML kigkonsult.se iCalcreator 2.20//
CALSCALE:GREGORIAN
METHOD:PUBLISH
X-WR-TIMEZONE:Europe/Paris
BEGIN:VEVENT
UID:event355@GUMS Paris
DTSTAMP:20260421T093907Z
CATEGORIES:Sorties randonnée
DESCRIPTION:Circuit d'Itteville\nCatégorie: Sorties randonnée\nLien: https:
 //www.gumsparis.asso.fr/index.php?option=com_jem&view=event&id=355:circuit
 -ditteville\n
DTSTART;TZID=Europe/Paris:20141026T100000
DTEND;TZID=Europe/Paris:20141026T100000
SUMMARY:Circuit d'Itteville
URL:https://www.gumsparis.asso.fr/index.php?option=com_jem&view=event&id=35
 5:circuit-ditteville
END:VEVENT
END:VCALENDAR
