BEGIN:VCALENDAR
VERSION:2.0
PRODID:-//213.186.33.4//NONSGML kigkonsult.se iCalcreator 2.20//
CALSCALE:GREGORIAN
METHOD:PUBLISH
X-WR-TIMEZONE:Europe/Paris
BEGIN:VEVENT
UID:event357@GUMS Paris
DTSTAMP:20260421T093907Z
CATEGORIES:Sorties Falaises
DESCRIPTION:Rassemblement au Thaurac\nCatégorie: Sorties Falaises\nLien: ht
 tps://www.gumsparis.asso.fr/index.php?option=com_jem&view=event&id=357:ras
 semblement-au-thorac\n
DTSTART;VALUE=DATE:20141025
DTEND;VALUE=DATE:20141103
SUMMARY:Rassemblement au Thaurac
URL:https://www.gumsparis.asso.fr/index.php?option=com_jem&view=event&id=35
 7:rassemblement-au-thorac
END:VEVENT
END:VCALENDAR
