BEGIN:VCALENDAR
VERSION:2.0
PRODID:-//213.186.33.4//NONSGML kigkonsult.se iCalcreator 2.20//
CALSCALE:GREGORIAN
METHOD:PUBLISH
X-WR-TIMEZONE:Europe/Paris
BEGIN:VEVENT
UID:event360@GUMS Paris
DTSTAMP:20260421T093942Z
CATEGORIES:Sorties randonnée
DESCRIPTION:Les boucles de l'Yerres\nCatégorie: Sorties randonnée\nLien: ht
 tps://www.gumsparis.asso.fr/index.php?option=com_jem&view=event&id=360:les
 -boucles-de-lyerres\n
DTSTART;TZID=Europe/Paris:20141116T100000
DTEND;TZID=Europe/Paris:20141116T100000
SUMMARY:Les boucles de l'Yerres
URL:https://www.gumsparis.asso.fr/index.php?option=com_jem&view=event&id=36
 0:les-boucles-de-lyerres
END:VEVENT
END:VCALENDAR
