BEGIN:VCALENDAR
VERSION:2.0
PRODID:-//213.186.33.4//NONSGML kigkonsult.se iCalcreator 2.20//
CALSCALE:GREGORIAN
METHOD:PUBLISH
X-WR-TIMEZONE:Europe/Paris
BEGIN:VEVENT
UID:event362@GUMS Paris
DTSTAMP:20260421T104401Z
CATEGORIES:Ski de Rando
DESCRIPTION:Entrainement aux recherches en avalanche\nCatégorie: Ski de Ran
 do\nLien: https://www.gumsparis.asso.fr/index.php?option=com_jem&view=even
 t&id=362:entrainement-aux-recherches-en-avalanche\n
DTSTART;TZID=Europe/Paris:20141129T120000
DTEND;TZID=Europe/Paris:20141129T120000
SUMMARY:Entrainement aux recherches en avalanche
URL:https://www.gumsparis.asso.fr/index.php?option=com_jem&view=event&id=36
 2:entrainement-aux-recherches-en-avalanche
END:VEVENT
END:VCALENDAR
