BEGIN:VCALENDAR
VERSION:2.0
PRODID:-//213.186.33.4//NONSGML kigkonsult.se iCalcreator 2.20//
CALSCALE:GREGORIAN
METHOD:PUBLISH
X-WR-TIMEZONE:Europe/Paris
BEGIN:VEVENT
UID:event363@GUMS Paris
DTSTAMP:20260421T094153Z
CATEGORIES:Sorties randonnée
DESCRIPTION:Samois-sur-Seine\nCatégorie: Sorties randonnée\nLien: https://w
 ww.gumsparis.asso.fr/index.php?option=com_jem&view=event&id=363:samois-sur
 -seine\n
DTSTART;TZID=Europe/Paris:20141207T094500
DTEND;TZID=Europe/Paris:20141207T094500
SUMMARY:Samois-sur-Seine
URL:https://www.gumsparis.asso.fr/index.php?option=com_jem&view=event&id=36
 3:samois-sur-seine
END:VEVENT
END:VCALENDAR
