BEGIN:VCALENDAR
VERSION:2.0
PRODID:-//213.186.33.4//NONSGML kigkonsult.se iCalcreator 2.20//
CALSCALE:GREGORIAN
METHOD:PUBLISH
X-WR-TIMEZONE:Europe/Paris
BEGIN:VEVENT
UID:event365@GUMS Paris
DTSTAMP:20260421T094424Z
CATEGORIES:Sorties randonnée
DESCRIPTION:Autour du château de Chamarande\nCatégorie: Sorties randonnée\n
 Lien: https://www.gumsparis.asso.fr/index.php?option=com_jem&view=event&id
 =365:autour-du-chateau-de-chamarande\n
DTSTART;VALUE=DATE:20150118
DTEND;VALUE=DATE:20150119
SUMMARY:Autour du château de Chamarande
URL:https://www.gumsparis.asso.fr/index.php?option=com_jem&view=event&id=36
 5:autour-du-chateau-de-chamarande
END:VEVENT
END:VCALENDAR
