BEGIN:VCALENDAR
VERSION:2.0
PRODID:-//213.186.33.4//NONSGML kigkonsult.se iCalcreator 2.20//
CALSCALE:GREGORIAN
METHOD:PUBLISH
X-WR-TIMEZONE:Europe/Paris
BEGIN:VEVENT
UID:event367@GUMS Paris
DTSTAMP:20260421T092147Z
CATEGORIES:Ski de Rando
DESCRIPTION:Car-couchettes Lautaret\nCatégorie: Ski de Rando\nLien: https:/
 /www.gumsparis.asso.fr/index.php?option=com_jem&view=event&id=367:car-couc
 hette-48\n
DTSTART;VALUE=DATE:20130413
DTEND;VALUE=DATE:20130416
SUMMARY:Car-couchettes Lautaret
URL:https://www.gumsparis.asso.fr/index.php?option=com_jem&view=event&id=36
 7:car-couchette-48
END:VEVENT
END:VCALENDAR
