BEGIN:VCALENDAR
VERSION:2.0
PRODID:-//213.186.33.4//NONSGML kigkonsult.se iCalcreator 2.20//
CALSCALE:GREGORIAN
METHOD:PUBLISH
X-WR-TIMEZONE:Europe/Paris
BEGIN:VEVENT
UID:event368@GUMS Paris
DTSTAMP:20260421T092153Z
CATEGORIES:Ski de Rando
DESCRIPTION:Car-couchettes Valpelline (co-voiturage ou TC)\nCatégorie: Ski 
 de Rando\nLien: https://www.gumsparis.asso.fr/index.php?option=com_jem&vie
 w=event&id=368:car-couchette-47\n
DTSTART;VALUE=DATE:20130427
DTEND;VALUE=DATE:20130502
SUMMARY:Car-couchettes Valpelline (co-voiturage ou TC)
URL:https://www.gumsparis.asso.fr/index.php?option=com_jem&view=event&id=36
 8:car-couchette-47
END:VEVENT
END:VCALENDAR
