BEGIN:VCALENDAR
VERSION:2.0
PRODID:-//213.186.33.4//NONSGML kigkonsult.se iCalcreator 2.20//
CALSCALE:GREGORIAN
METHOD:PUBLISH
X-WR-TIMEZONE:Europe/Paris
BEGIN:VEVENT
UID:event37@GUMS Paris
DTSTAMP:20260421T082250Z
CATEGORIES:Sorties randonnée
DESCRIPTION:Forêt de l'Isle-Adam\nCatégorie: Sorties randonnée\nLien: https
 ://www.gumsparis.asso.fr/index.php?option=com_jem&view=event&id=37:foret-d
 e-lisle-adam\n
DTSTART;VALUE=DATE:20100919
DTEND;VALUE=DATE:20100920
SUMMARY:Forêt de l'Isle-Adam
URL:https://www.gumsparis.asso.fr/index.php?option=com_jem&view=event&id=37
 :foret-de-lisle-adam
END:VEVENT
END:VCALENDAR
