BEGIN:VCALENDAR
VERSION:2.0
PRODID:-//213.186.33.4//NONSGML kigkonsult.se iCalcreator 2.20//
CALSCALE:GREGORIAN
METHOD:PUBLISH
X-WR-TIMEZONE:Europe/Paris
BEGIN:VEVENT
UID:event370@GUMS Paris
DTSTAMP:20260421T092221Z
CATEGORIES:Ski de Rando
DESCRIPTION:Car-couchettes Chablais - Abondance (Escalade)\nCatégorie: Ski 
 de Rando\nLien: https://www.gumsparis.asso.fr/index.php?option=com_jem&vie
 w=event&id=370:car-couchette-50\n
DTSTART;VALUE=DATE:20131012
DTEND;VALUE=DATE:20131014
SUMMARY:Car-couchettes Chablais - Abondance (Escalade)
URL:https://www.gumsparis.asso.fr/index.php?option=com_jem&view=event&id=37
 0:car-couchette-50
END:VEVENT
END:VCALENDAR
