BEGIN:VCALENDAR
VERSION:2.0
PRODID:-//213.186.33.4//NONSGML kigkonsult.se iCalcreator 2.20//
CALSCALE:GREGORIAN
METHOD:PUBLISH
X-WR-TIMEZONE:Europe/Paris
BEGIN:VEVENT
UID:event371@GUMS Paris
DTSTAMP:20260421T092311Z
CATEGORIES:Ski de Rando
DESCRIPTION:Car-couchettes Buis les Baronies (Escalade)\nCatégorie: Ski de 
 Rando\nLien: https://www.gumsparis.asso.fr/index.php?option=com_jem&view=e
 vent&id=371:car-couchette-51\n
DTSTART;VALUE=DATE:20131109
DTEND;VALUE=DATE:20131112
SUMMARY:Car-couchettes Buis les Baronies (Escalade)
URL:https://www.gumsparis.asso.fr/index.php?option=com_jem&view=event&id=37
 1:car-couchette-51
END:VEVENT
END:VCALENDAR
