BEGIN:VCALENDAR
VERSION:2.0
PRODID:-//213.186.33.4//NONSGML kigkonsult.se iCalcreator 2.20//
CALSCALE:GREGORIAN
METHOD:PUBLISH
X-WR-TIMEZONE:Europe/Paris
BEGIN:VEVENT
UID:event373@GUMS Paris
DTSTAMP:20260421T092220Z
CATEGORIES:Ski de Rando
DESCRIPTION:Car-couchettes Andermatt (Suisse)\nCatégorie: Ski de Rando\nLie
 n: https://www.gumsparis.asso.fr/index.php?option=com_jem&view=event&id=37
 3:car-couchette-52\n
DTSTART;VALUE=DATE:20131214
DTEND;VALUE=DATE:20131216
SUMMARY:Car-couchettes Andermatt (Suisse)
URL:https://www.gumsparis.asso.fr/index.php?option=com_jem&view=event&id=37
 3:car-couchette-52
END:VEVENT
END:VCALENDAR
