BEGIN:VCALENDAR
VERSION:2.0
PRODID:-//213.186.33.4//NONSGML kigkonsult.se iCalcreator 2.20//
CALSCALE:GREGORIAN
METHOD:PUBLISH
X-WR-TIMEZONE:Europe/Paris
BEGIN:VEVENT
UID:event374@GUMS Paris
DTSTAMP:20260421T092153Z
CATEGORIES:Ski de Rando
DESCRIPTION:Car-couchettes Beaufortain/Tarentaise\nCatégorie: Ski de Rando
 \nLien: https://www.gumsparis.asso.fr/index.php?option=com_jem&view=event&
 id=374:car-couchette-53\n
DTSTART;VALUE=DATE:20140111
DTEND;VALUE=DATE:20140113
SUMMARY:Car-couchettes Beaufortain/Tarentaise
URL:https://www.gumsparis.asso.fr/index.php?option=com_jem&view=event&id=37
 4:car-couchette-53
END:VEVENT
END:VCALENDAR
