BEGIN:VCALENDAR
VERSION:2.0
PRODID:-//213.186.33.4//NONSGML kigkonsult.se iCalcreator 2.20//
CALSCALE:GREGORIAN
METHOD:PUBLISH
X-WR-TIMEZONE:Europe/Paris
BEGIN:VEVENT
UID:event387@GUMS Paris
DTSTAMP:20260421T104023Z
CATEGORIES:Ski de Rando
DESCRIPTION:Car-couchettes Göschenen/Realp (Suisse Centrale)\nCatégorie: Sk
 i de Rando\nLien: https://www.gumsparis.asso.fr/index.php?option=com_jem&v
 iew=event&id=387:car-couchette-66\n
DTSTART;VALUE=DATE:20140607
DTEND;VALUE=DATE:20140610
SUMMARY:Car-couchettes Göschenen/Realp (Suisse Centrale)
URL:https://www.gumsparis.asso.fr/index.php?option=com_jem&view=event&id=38
 7:car-couchette-66
END:VEVENT
END:VCALENDAR
