BEGIN:VCALENDAR
VERSION:2.0
PRODID:-//213.186.33.4//NONSGML kigkonsult.se iCalcreator 2.20//
CALSCALE:GREGORIAN
METHOD:PUBLISH
X-WR-TIMEZONE:Europe/Paris
BEGIN:VEVENT
UID:event388@GUMS Paris
DTSTAMP:20260421T103941Z
CATEGORIES:Ski de Rando
DESCRIPTION:Car-couchettes Presles (Vercors)\nCatégorie: Ski de Rando\nLien
 : https://www.gumsparis.asso.fr/index.php?option=com_jem&view=event&id=388
 :car-couchette-67\n
DTSTART;VALUE=DATE:20140621
DTEND;VALUE=DATE:20140623
SUMMARY:Car-couchettes Presles (Vercors)
URL:https://www.gumsparis.asso.fr/index.php?option=com_jem&view=event&id=38
 8:car-couchette-67
END:VEVENT
END:VCALENDAR
