BEGIN:VCALENDAR
VERSION:2.0
PRODID:-//213.186.33.4//NONSGML kigkonsult.se iCalcreator 2.20//
CALSCALE:GREGORIAN
METHOD:PUBLISH
X-WR-TIMEZONE:Europe/Paris
BEGIN:VEVENT
UID:event389@GUMS Paris
DTSTAMP:20260421T094104Z
CATEGORIES:Ski de Rando
DESCRIPTION:Car-couchettes Cornettes de Bise (Haute-Savoie)\nCatégorie: Ski
  de Rando\nLien: https://www.gumsparis.asso.fr/index.php?option=com_jem&vi
 ew=event&id=389:car-couchette-68\n
DTSTART;VALUE=DATE:20141011
DTEND;VALUE=DATE:20141013
SUMMARY:Car-couchettes Cornettes de Bise (Haute-Savoie)
URL:https://www.gumsparis.asso.fr/index.php?option=com_jem&view=event&id=38
 9:car-couchette-68
END:VEVENT
END:VCALENDAR
