BEGIN:VCALENDAR
VERSION:2.0
PRODID:-//213.186.33.4//NONSGML kigkonsult.se iCalcreator 2.20//
CALSCALE:GREGORIAN
METHOD:PUBLISH
X-WR-TIMEZONE:Europe/Paris
BEGIN:VEVENT
UID:event39@GUMS Paris
DTSTAMP:20260421T082754Z
CATEGORIES:Sorties randonnée
DESCRIPTION:Randonnées autour de Collonges-la-Rouge\nCatégorie: Sorties ran
 donnée\nLien: https://www.gumsparis.asso.fr/index.php?option=com_jem&view=
 event&id=39:randonnees-autour-de-collonges-la-rouge\n
DTSTART;VALUE=DATE:20101023
DTEND;VALUE=DATE:20101031
SUMMARY:Randonnées autour de Collonges-la-Rouge
URL:https://www.gumsparis.asso.fr/index.php?option=com_jem&view=event&id=39
 :randonnees-autour-de-collonges-la-rouge
END:VEVENT
END:VCALENDAR
