BEGIN:VCALENDAR
VERSION:2.0
PRODID:-//213.186.33.4//NONSGML kigkonsult.se iCalcreator 2.20//
CALSCALE:GREGORIAN
METHOD:PUBLISH
X-WR-TIMEZONE:Europe/Paris
BEGIN:VEVENT
UID:event391@GUMS Paris
DTSTAMP:20260421T094110Z
CATEGORIES:Ski de Rando
DESCRIPTION:Car-couchettes Maurienne\nCatégorie: Ski de Rando\nLien: https:
 //www.gumsparis.asso.fr/index.php?option=com_jem&view=event&id=391:car-cou
 chette-70\n
DTSTART;VALUE=DATE:20150117
DTEND;VALUE=DATE:20150119
SUMMARY:Car-couchettes Maurienne
URL:https://www.gumsparis.asso.fr/index.php?option=com_jem&view=event&id=39
 1:car-couchette-70
END:VEVENT
END:VCALENDAR
