BEGIN:VCALENDAR
VERSION:2.0
PRODID:-//213.186.33.4//NONSGML kigkonsult.se iCalcreator 2.20//
CALSCALE:GREGORIAN
METHOD:PUBLISH
X-WR-TIMEZONE:Europe/Paris
BEGIN:VEVENT
UID:event392@GUMS Paris
DTSTAMP:20260421T094045Z
CATEGORIES:Ski de Rando
DESCRIPTION:Car-couchettes Haute-Savoie\nCatégorie: Ski de Rando\nLien: htt
 ps://www.gumsparis.asso.fr/index.php?option=com_jem&view=event&id=392:car-
 couchette-71\n
DTSTART;VALUE=DATE:20150123
DTEND;VALUE=DATE:20150126
SUMMARY:Car-couchettes Haute-Savoie
URL:https://www.gumsparis.asso.fr/index.php?option=com_jem&view=event&id=39
 2:car-couchette-71
END:VEVENT
END:VCALENDAR
