BEGIN:VCALENDAR
VERSION:2.0
PRODID:-//213.186.33.4//NONSGML kigkonsult.se iCalcreator 2.20//
CALSCALE:GREGORIAN
METHOD:PUBLISH
X-WR-TIMEZONE:Europe/Paris
BEGIN:VEVENT
UID:event395@GUMS Paris
DTSTAMP:20260421T094116Z
CATEGORIES:Ski de Rando
DESCRIPTION:Car-couchettes Rhemes-Notre-Dame (Italie)\nCatégorie: Ski de Ra
 ndo\nLien: https://www.gumsparis.asso.fr/index.php?option=com_jem&view=eve
 nt&id=395:car-couchette-74\n
DTSTART;VALUE=DATE:20150320
DTEND;VALUE=DATE:20150323
SUMMARY:Car-couchettes Rhemes-Notre-Dame (Italie)
URL:https://www.gumsparis.asso.fr/index.php?option=com_jem&view=event&id=39
 5:car-couchette-74
END:VEVENT
END:VCALENDAR
